﻿BEGIN:VCALENDAR
VERSION:2.0
BEGIN:VEVENT
DTSTART:20260604T010000Z
DTEND:20260604T080000Z
SUMMARY:DIGITIMES 2026 COMPUTEX展會論壇(台北) GenAI Nexus：百工百業生產力中樞

LOCATION:台北市信義區松高路18號（台北艾麗酒店5樓會議廳）
END:VEVENT
END:VCALENDAR