﻿BEGIN:VCALENDAR
VERSION:2.0
BEGIN:VEVENT
DTSTART:20260521T010000Z
DTEND:20260521T080000Z
SUMMARY:20260521_【四零四科技】迎戰產業新變局 – 重塑智慧製造與企業韌性

LOCATION:高雄市前鎮區新光路33號（高雄洲際酒店）
END:VEVENT
END:VCALENDAR